BEGIN:VCALENDAR
VERSION:2.0
PRODID:-//Tukios.com/
BEGIN:VEVENT
UID:73ecbab1-268d-4c97-ba9a-0da9b047a445@www.davis-turner.com
DTSTAMP:20260419T145554Z
DTSTART:20260424T150000Z
DTEND:20260424T160000Z
SUMMARY:Celebration of Life
DESCRIPTION:
URL:https://www.davis-turner.com/obituaries/mildred-a-rose
LOCATION: 322 Puppy Creek Road  Amherst VA 24521
GEO:37.6541345;-79.1518105
END:VEVENT
END:VCALENDAR