BEGIN:VCALENDAR
VERSION:2.0
PRODID:-//Tukios.com/
BEGIN:VEVENT
UID:449c91e7-1ea0-48fe-986d-9cf92ae5954f@www.davis-turner.com
DTSTAMP:20260422T011432Z
DTSTART:20260427T150000Z
DTEND:20260427T160000Z
SUMMARY:Celebration of Life
DESCRIPTION:
URL:https://www.davis-turner.com/obituaries/earline-elenor-thomas-west
LOCATION: 1016 Rivermont Ave  Lynchburg VA 24504
GEO:37.4265017;-79.1528602
END:VEVENT
END:VCALENDAR